BEGIN:VCALENDAR
VERSION:2.0
PRODID:-//Büchsenspecht - ECPv6.15.20//NONSGML v1.0//EN
CALSCALE:GREGORIAN
METHOD:PUBLISH
X-WR-CALNAME:Büchsenspecht
X-ORIGINAL-URL:https://buechsenspecht.de
X-WR-CALDESC:Veranstaltungen für Büchsenspecht
REFRESH-INTERVAL;VALUE=DURATION:PT1H
X-Robots-Tag:noindex
X-PUBLISHED-TTL:PT1H
BEGIN:VTIMEZONE
TZID:UTC
BEGIN:STANDARD
TZOFFSETFROM:+0000
TZOFFSETTO:+0000
TZNAME:UTC
DTSTART:20220101T000000
END:STANDARD
END:VTIMEZONE
BEGIN:VEVENT
DTSTART;TZID=UTC:20251004T180000
DTEND;TZID=UTC:20251004T235900
DTSTAMP:20260422T140622
CREATED:20250930T084141Z
LAST-MODIFIED:20250930T084141Z
UID:455-1759600800-1759622340@buechsenspecht.de
SUMMARY:Punk sei Dank Vol. 7
DESCRIPTION:Am 04.10.2025 spielen wir beim Punk sei Dank Vol. 7 in Bonn im Namenlos. Wir spielen bereits um 19:20 Uhr! \nFlyer Punk sei Dank Vol. 7\nLine-up\n18:40 -19:10 Tett der Landstreicher aus dem Teutoburger Wald19:20 -20:10 Büchsenspecht aus Bonn  20:20 -21:20 Johnny Rocky and the Weekend Warriors aus Aachen21:30 -22:30 Oierproblem aus Koblenz22:40 -23:40 Die Schwarzen Schafe aus Düsseldorf24:00 After-Show-Party mit Dj Spritkopp  \nAblauf und Tickets\n\nEinlass: 18:00 Uhr\nBeginn: 18:40 Uhr\nEnde: offen (Aftershow-Party bis in die Morgenstunden)\nTickets: 15 € an der Abendkasse
URL:https://buechsenspecht.de/shows/punk-sei-dank-vol-7
LOCATION:Namenlos\, Bornheimer Str. 20-22\, Bonn\, NRW\, 53111\, Deutschland
END:VEVENT
BEGIN:VEVENT
DTSTART;TZID=UTC:20231111T190000
DTEND;TZID=UTC:20231111T235900
DTSTAMP:20260422T140622
CREATED:20231026T123752Z
LAST-MODIFIED:20231108T210301Z
UID:246-1699729200-1699747140@buechsenspecht.de
SUMMARY:Punkrock am 11.11.23 im Namenlos (BN)
DESCRIPTION:Punkrock am 11. im 11.!\nAm 11.11.23 spielen wir zusammen mit stellWErk. Eröffnung ist um 19:00 Uhr und um 20:00 Uhr gibt’s dann feinsten Punkrock für euch auf die Ohren. Egal\, ob Karnevalsmuffel oder als Clown verkleidet. Everybody is Welcome!\n\nDer Eintritt an der Abendkasse ist 11 Euro\, davon spenden wir jeweils einen Euro an die zivile Seenotrettung!\n\nhttps://www.facebook.com/events/937713361189127\n\nstellWERk aus Köln. Texte mit Inhalt Musik mit Kraft. Wohin wir auch immer schwenken\, es dreht sich alles um Punk. Unsere Einflüsse reichen aus den 50ern bis heute.\nWir wollen Songs schreiben und Spaß haben. Hin und wieder wird das ganze durch einen Gig gekrönt. Bei Fragen schreibt uns einfach an. Persönliche Kommunikation\, freundliches Miteinander und schöne Zeiten. Das ist was wir wollen.\nFür den Kopf die Politik\nFür den Arsch die Tanzmusik\nDas ist stellWErk\n\nBüchsenspecht gründete sich 2021 nach einem Geistesblitz bei Rheinkilometer 659. In druckvoller Punkrock-Manier bitten Malte (Gitarre\, Gesang)\, René (Drums\, Gesang) und Stefan (Bass\, Gesang) seitdem auf die Tanzfläche\, um mit erhobenem Mittelfinger auf aktuelle gesellschaftliche Fehlentwicklungen aufmerksam zu machen. Neben dem Kampf gegen Rassismus und Diskriminierung gehören hierzu auch die alltäglichen Unwägbarkeiten des zwischenmenschlichen Zusammenlebens. So geben sich auf der Bühne krachend wütende Songs\, nachdenkliche Melodien und Lieder mit ironischem Augenzwinkern die Hand. Die Vielseitigkeit der melodischen selbstgeschriebenen Songs erleichtert den kurzweiligen Zeitvertreib vor und auf der Bühne.\nNach den ersten erfolgreichen Liveshows in 2022 haben die Spechte noch mehr Bock\, ihre neuen Songs auf die Bühne zu bringen.
URL:https://buechsenspecht.de/shows/punkrock-am-11-11-23-im-namenlos-bn
LOCATION:Namenlos\, Bornheimer Str. 20-22\, Bonn\, NRW\, 53111\, Deutschland
CATEGORIES:Konzert
ATTACH;FMTTYPE=image/jpeg:https://buechsenspecht.de/wp-content/uploads/2023/10/Buechsenspecht_Namenlos.jpg
ORGANIZER;CN="B%C3%BCchsenspecht":MAILTO:band@buechsenspecht.de
END:VEVENT
END:VCALENDAR